BEGIN:VCALENDAR
VERSION:2.0
PRODID:-//Visionway Christian School - ECPv6.15.15//NONSGML v1.0//EN
CALSCALE:GREGORIAN
METHOD:PUBLISH
X-WR-CALNAME:Visionway Christian School
X-ORIGINAL-URL:https://visionwayschool.org
X-WR-CALDESC:Events for Visionway Christian School
REFRESH-INTERVAL;VALUE=DURATION:PT1H
X-Robots-Tag:noindex
X-PUBLISHED-TTL:PT1H
BEGIN:VTIMEZONE
TZID:America/Chicago
BEGIN:DAYLIGHT
TZOFFSETFROM:-0600
TZOFFSETTO:-0500
TZNAME:CDT
DTSTART:20220313T080000
END:DAYLIGHT
BEGIN:STANDARD
TZOFFSETFROM:-0500
TZOFFSETTO:-0600
TZNAME:CST
DTSTART:20221106T070000
END:STANDARD
BEGIN:DAYLIGHT
TZOFFSETFROM:-0600
TZOFFSETTO:-0500
TZNAME:CDT
DTSTART:20230312T080000
END:DAYLIGHT
BEGIN:STANDARD
TZOFFSETFROM:-0500
TZOFFSETTO:-0600
TZNAME:CST
DTSTART:20231105T070000
END:STANDARD
BEGIN:DAYLIGHT
TZOFFSETFROM:-0600
TZOFFSETTO:-0500
TZNAME:CDT
DTSTART:20240310T080000
END:DAYLIGHT
BEGIN:STANDARD
TZOFFSETFROM:-0500
TZOFFSETTO:-0600
TZNAME:CST
DTSTART:20241103T070000
END:STANDARD
BEGIN:DAYLIGHT
TZOFFSETFROM:-0600
TZOFFSETTO:-0500
TZNAME:CDT
DTSTART:20250309T080000
END:DAYLIGHT
BEGIN:STANDARD
TZOFFSETFROM:-0500
TZOFFSETTO:-0600
TZNAME:CST
DTSTART:20251102T070000
END:STANDARD
END:VTIMEZONE
BEGIN:VEVENT
DTSTART;TZID=America/Chicago:20240226T180000
DTEND;TZID=America/Chicago:20240226T190000
DTSTAMP:20260421T183012
CREATED:20231221T221412Z
LAST-MODIFIED:20231221T221412Z
UID:1368-1708970400-1708974000@visionwayschool.org
SUMMARY:School Board Meeting
DESCRIPTION:
URL:https://visionwayschool.org/event/school-board-meeting-7/
LOCATION:Church Fellowship Hall
END:VEVENT
BEGIN:VEVENT
DTSTART;VALUE=DATE:20240219
DTEND;VALUE=DATE:20240220
DTSTAMP:20260421T183012
CREATED:20230705T174603Z
LAST-MODIFIED:20230705T174603Z
UID:1088-1708300800-1708387199@visionwayschool.org
SUMMARY:President's Day (No School)
DESCRIPTION:
URL:https://visionwayschool.org/event/presidents-day-no-school/
END:VEVENT
BEGIN:VEVENT
DTSTART;TZID=America/Chicago:20240215T180000
DTEND;TZID=America/Chicago:20240215T190000
DTSTAMP:20260421T183012
CREATED:20230803T192652Z
LAST-MODIFIED:20230804T195733Z
UID:1185-1708020000-1708023600@visionwayschool.org
SUMMARY:PIE MTG
DESCRIPTION:
URL:https://visionwayschool.org/event/pie-mtg-6/
LOCATION:Church Fellowship Hall
END:VEVENT
BEGIN:VEVENT
DTSTART;TZID=America/Chicago:20240207T133000
DTEND;TZID=America/Chicago:20240207T140000
DTSTAMP:20260421T183012
CREATED:20230803T192231Z
LAST-MODIFIED:20240126T135107Z
UID:1173-1707312600-1707314400@visionwayschool.org
SUMMARY:4th Grade Chapel
DESCRIPTION:
URL:https://visionwayschool.org/event/3rd-grade-chapel/
LOCATION:VCS
END:VEVENT
BEGIN:VEVENT
DTSTART;TZID=America/Chicago:20240131T130000
DTEND;TZID=America/Chicago:20240131T130000
DTSTAMP:20260421T183012
CREATED:20230705T174516Z
LAST-MODIFIED:20230705T174516Z
UID:1086-1706706000-1706706000@visionwayschool.org
SUMMARY:Teachers' In-Service Day (Dismissal 1pm)
DESCRIPTION:
URL:https://visionwayschool.org/event/teachers-in-service-day-dismissal-1pm/
END:VEVENT
BEGIN:VEVENT
DTSTART;TZID=America/Chicago:20240124T130000
DTEND;TZID=America/Chicago:20240124T140000
DTSTAMP:20260421T183012
CREATED:20230803T192157Z
LAST-MODIFIED:20240124T184409Z
UID:1171-1706101200-1706104800@visionwayschool.org
SUMMARY:Chapel
DESCRIPTION:
URL:https://visionwayschool.org/event/4th-grade-chapel-2/
LOCATION:VCS
END:VEVENT
BEGIN:VEVENT
DTSTART;TZID=America/Chicago:20240122T180000
DTEND;TZID=America/Chicago:20240122T190000
DTSTAMP:20260421T183012
CREATED:20231221T221322Z
LAST-MODIFIED:20231221T221322Z
UID:1366-1705946400-1705950000@visionwayschool.org
SUMMARY:School Board Meeting
DESCRIPTION:
URL:https://visionwayschool.org/event/school-board-meeting-6/
LOCATION:Church Fellowship Hall
END:VEVENT
BEGIN:VEVENT
DTSTART;VALUE=DATE:20240116
DTEND;VALUE=DATE:20240120
DTSTAMP:20260421T183013
CREATED:20230705T174400Z
LAST-MODIFIED:20230705T174400Z
UID:1084-1705363200-1705708799@visionwayschool.org
SUMMARY:MAP Testing
DESCRIPTION:
URL:https://visionwayschool.org/event/map-testing-2/
LOCATION:VCS
END:VEVENT
BEGIN:VEVENT
DTSTART;VALUE=DATE:20240115
DTEND;VALUE=DATE:20240116
DTSTAMP:20260421T183013
CREATED:20230705T174327Z
LAST-MODIFIED:20230705T174327Z
UID:1082-1705276800-1705363199@visionwayschool.org
SUMMARY:Martin Luther King Day (No School)
DESCRIPTION:
URL:https://visionwayschool.org/event/martin-luther-king-day-no-school/
END:VEVENT
BEGIN:VEVENT
DTSTART;TZID=America/Chicago:20240111T180000
DTEND;TZID=America/Chicago:20240111T190000
DTSTAMP:20260421T183013
CREATED:20230803T192554Z
LAST-MODIFIED:20230804T195657Z
UID:1182-1704996000-1704999600@visionwayschool.org
SUMMARY:PIE MTG
DESCRIPTION:
URL:https://visionwayschool.org/event/pie-mtg-5/
LOCATION:Church Fellowship Hall
END:VEVENT
BEGIN:VEVENT
DTSTART;VALUE=DATE:20240109
DTEND;VALUE=DATE:20240110
DTSTAMP:20260421T183013
CREATED:20230705T174228Z
LAST-MODIFIED:20230705T174228Z
UID:1080-1704758400-1704844799@visionwayschool.org
SUMMARY:School Resumes
DESCRIPTION:
URL:https://visionwayschool.org/event/school-resumes/
LOCATION:VCS
END:VEVENT
BEGIN:VEVENT
DTSTART;VALUE=DATE:20240108
DTEND;VALUE=DATE:20240109
DTSTAMP:20260421T183013
CREATED:20230705T174157Z
LAST-MODIFIED:20230705T174157Z
UID:1078-1704672000-1704758399@visionwayschool.org
SUMMARY:Teachers' In-Service (No School)
DESCRIPTION:
URL:https://visionwayschool.org/event/teachers-in-service-no-school/
END:VEVENT
BEGIN:VEVENT
DTSTART;VALUE=DATE:20231225
DTEND;VALUE=DATE:20240106
DTSTAMP:20260421T183013
CREATED:20230705T174118Z
LAST-MODIFIED:20230705T174118Z
UID:1076-1703462400-1704499199@visionwayschool.org
SUMMARY:Christmas Vacation (No School)
DESCRIPTION:
URL:https://visionwayschool.org/event/christmas-vacation-no-school/
END:VEVENT
BEGIN:VEVENT
DTSTART;TZID=America/Chicago:20231222T140000
DTEND;TZID=America/Chicago:20231222T140000
DTSTAMP:20260421T183013
CREATED:20230705T173930Z
LAST-MODIFIED:20230705T173930Z
UID:1074-1703253600-1703253600@visionwayschool.org
SUMMARY:End of Second Quarter (Dismissal 2pm)
DESCRIPTION:
URL:https://visionwayschool.org/event/end-of-second-quarter-dismissal-2pm/
LOCATION:VCS
END:VEVENT
BEGIN:VEVENT
DTSTART;TZID=America/Chicago:20231218T180000
DTEND;TZID=America/Chicago:20231218T190000
DTSTAMP:20260421T183013
CREATED:20230818T164912Z
LAST-MODIFIED:20230818T164912Z
UID:1234-1702922400-1702926000@visionwayschool.org
SUMMARY:School Board Meeting
DESCRIPTION:
URL:https://visionwayschool.org/event/school-board-meeting-5/
LOCATION:Church Fellowship Hall
END:VEVENT
BEGIN:VEVENT
DTSTART;TZID=America/Chicago:20231217T130000
DTEND;TZID=America/Chicago:20231217T160000
DTSTAMP:20260421T183013
CREATED:20231205T135342Z
LAST-MODIFIED:20231205T135342Z
UID:1337-1702818000-1702828800@visionwayschool.org
SUMMARY:VCS Christmas Movie
DESCRIPTION:
URL:https://visionwayschool.org/event/vcs-christmas-movie/
END:VEVENT
BEGIN:VEVENT
DTSTART;TZID=America/Chicago:20231213T130000
DTEND;TZID=America/Chicago:20231213T140000
DTSTAMP:20260421T183013
CREATED:20230803T190959Z
LAST-MODIFIED:20231031T210052Z
UID:1154-1702472400-1702476000@visionwayschool.org
SUMMARY:2nd Grade Chapel
DESCRIPTION:
URL:https://visionwayschool.org/event/kindergarten-chapel/
LOCATION:VCS
END:VEVENT
BEGIN:VEVENT
DTSTART;VALUE=DATE:20231208
DTEND;VALUE=DATE:20231209
DTSTAMP:20260421T183013
CREATED:20231205T135126Z
LAST-MODIFIED:20231205T135126Z
UID:1335-1701993600-1702079999@visionwayschool.org
SUMMARY:Popcorn Order Pickups
DESCRIPTION:You may pick up during the following times: \n-Child drop off (7 a.m. – 9 a.m.) \n-Before Christmas Program (12 p.m. – 1:30 p.m.) \n-After Christmas Program (2:30 p.m. – 3:30 p.m.) \n-Before Evening Christmas Program (5:30 p.m. – 7:00 p.m.)
URL:https://visionwayschool.org/event/popcorn-order-pickups/
END:VEVENT
BEGIN:VEVENT
DTSTART;VALUE=DATE:20231208
DTEND;VALUE=DATE:20231209
DTSTAMP:20260421T183013
CREATED:20230705T173828Z
LAST-MODIFIED:20231127T192806Z
UID:1072-1701993600-1702079999@visionwayschool.org
SUMMARY:Christmas Program (1:30/7:00pm)
DESCRIPTION:
URL:https://visionwayschool.org/event/christmas-program-130-700pm/
LOCATION:VCS
END:VEVENT
BEGIN:VEVENT
DTSTART;TZID=America/Chicago:20231207T180000
DTEND;TZID=America/Chicago:20231207T190000
DTSTAMP:20260421T183013
CREATED:20230803T191959Z
LAST-MODIFIED:20231110T172546Z
UID:1168-1701972000-1701975600@visionwayschool.org
SUMMARY:PIE MTG
DESCRIPTION:
URL:https://visionwayschool.org/event/pie-mtg-4/
LOCATION:Church Fellowship Hall
END:VEVENT
BEGIN:VEVENT
DTSTART;TZID=America/Chicago:20231129T130000
DTEND;TZID=America/Chicago:20231129T140000
DTSTAMP:20260421T183013
CREATED:20230803T190922Z
LAST-MODIFIED:20230803T190922Z
UID:1152-1701262800-1701266400@visionwayschool.org
SUMMARY:1st Grade Chapel
DESCRIPTION:
URL:https://visionwayschool.org/event/1st-grade-chapel/
LOCATION:VCS
END:VEVENT
BEGIN:VEVENT
DTSTART;TZID=America/Chicago:20231127T180000
DTEND;TZID=America/Chicago:20231127T190000
DTSTAMP:20260421T183013
CREATED:20230818T164837Z
LAST-MODIFIED:20230818T164837Z
UID:1232-1701108000-1701111600@visionwayschool.org
SUMMARY:School Board Meeting
DESCRIPTION:
URL:https://visionwayschool.org/event/school-board-meeting-4/
LOCATION:Church Fellowship Hall
END:VEVENT
BEGIN:VEVENT
DTSTART;VALUE=DATE:20231122
DTEND;VALUE=DATE:20231125
DTSTAMP:20260421T183013
CREATED:20230705T173715Z
LAST-MODIFIED:20230705T173715Z
UID:1070-1700611200-1700870399@visionwayschool.org
SUMMARY:Thanksgiving Vacation (No School)
DESCRIPTION:
URL:https://visionwayschool.org/event/thanksgiving-vacation-no-school/
END:VEVENT
BEGIN:VEVENT
DTSTART;TZID=America/Chicago:20231114T130000
DTEND;TZID=America/Chicago:20231114T140000
DTSTAMP:20260421T183013
CREATED:20231031T210329Z
LAST-MODIFIED:20231031T210329Z
UID:1273-1699966800-1699970400@visionwayschool.org
SUMMARY:Elementary Chapel and Missions Week Speaker
DESCRIPTION:
URL:https://visionwayschool.org/event/elementary-chapel-and-missions-week-speaker/
LOCATION:VCS
END:VEVENT
BEGIN:VEVENT
DTSTART;VALUE=DATE:20231113
DTEND;VALUE=DATE:20231118
DTSTAMP:20260421T183013
CREATED:20230705T173550Z
LAST-MODIFIED:20230705T173550Z
UID:1068-1699833600-1700265599@visionwayschool.org
SUMMARY:Missions Week
DESCRIPTION:
URL:https://visionwayschool.org/event/missions-week/
LOCATION:VCS
END:VEVENT
BEGIN:VEVENT
DTSTART;VALUE=DATE:20231110
DTEND;VALUE=DATE:20231111
DTSTAMP:20260421T183013
CREATED:20230705T173502Z
LAST-MODIFIED:20230705T173502Z
UID:1065-1699574400-1699660799@visionwayschool.org
SUMMARY:Veteran's Day Observed (No School)
DESCRIPTION:
URL:https://visionwayschool.org/event/veterans-day-observed-no-school/
END:VEVENT
BEGIN:VEVENT
DTSTART;TZID=America/Chicago:20231109T180000
DTEND;TZID=America/Chicago:20231109T190000
DTSTAMP:20260421T183013
CREATED:20230803T191923Z
LAST-MODIFIED:20230804T195528Z
UID:1166-1699552800-1699556400@visionwayschool.org
SUMMARY:PIE MTG
DESCRIPTION:
URL:https://visionwayschool.org/event/pie-mtg-3/
LOCATION:Church Fellowship Hall
END:VEVENT
BEGIN:VEVENT
DTSTART;TZID=America/Chicago:20231108T183000
DTEND;TZID=America/Chicago:20231108T193000
DTSTAMP:20260421T183013
CREATED:20231031T210608Z
LAST-MODIFIED:20231031T210608Z
UID:1275-1699468200-1699471800@visionwayschool.org
SUMMARY:VCS/TCC Worship Night
DESCRIPTION:
URL:https://visionwayschool.org/event/vcs-tcc-worship-night/
LOCATION:Church Fellowship Hall
END:VEVENT
BEGIN:VEVENT
DTSTART;TZID=America/Chicago:20231108T130000
DTEND;TZID=America/Chicago:20231108T140000
DTSTAMP:20260421T183013
CREATED:20230705T173422Z
LAST-MODIFIED:20231031T205837Z
UID:1063-1699448400-1699452000@visionwayschool.org
SUMMARY:Veteran's Day Chapel
DESCRIPTION:
URL:https://visionwayschool.org/event/veterans-day-program/
LOCATION:VCS
END:VEVENT
BEGIN:VEVENT
DTSTART;VALUE=DATE:20231026
DTEND;VALUE=DATE:20231028
DTSTAMP:20260421T183013
CREATED:20230705T173332Z
LAST-MODIFIED:20230705T173332Z
UID:1061-1698278400-1698451199@visionwayschool.org
SUMMARY:AM Parent/Teacher Conferences (No School)
DESCRIPTION:
URL:https://visionwayschool.org/event/am-parent-teacher-conferences-no-school/
LOCATION:VCS
END:VEVENT
END:VCALENDAR