BEGIN:VCALENDAR
VERSION:2.0
PRODID:-//Visionway Christian School - ECPv6.15.15//NONSGML v1.0//EN
CALSCALE:GREGORIAN
METHOD:PUBLISH
X-WR-CALNAME:Visionway Christian School
X-ORIGINAL-URL:https://visionwayschool.org
X-WR-CALDESC:Events for Visionway Christian School
REFRESH-INTERVAL;VALUE=DURATION:PT1H
X-Robots-Tag:noindex
X-PUBLISHED-TTL:PT1H
BEGIN:VTIMEZONE
TZID:America/Chicago
BEGIN:DAYLIGHT
TZOFFSETFROM:-0600
TZOFFSETTO:-0500
TZNAME:CDT
DTSTART:20230312T080000
END:DAYLIGHT
BEGIN:STANDARD
TZOFFSETFROM:-0500
TZOFFSETTO:-0600
TZNAME:CST
DTSTART:20231105T070000
END:STANDARD
BEGIN:DAYLIGHT
TZOFFSETFROM:-0600
TZOFFSETTO:-0500
TZNAME:CDT
DTSTART:20240310T080000
END:DAYLIGHT
BEGIN:STANDARD
TZOFFSETFROM:-0500
TZOFFSETTO:-0600
TZNAME:CST
DTSTART:20241103T070000
END:STANDARD
BEGIN:DAYLIGHT
TZOFFSETFROM:-0600
TZOFFSETTO:-0500
TZNAME:CDT
DTSTART:20250309T080000
END:DAYLIGHT
BEGIN:STANDARD
TZOFFSETFROM:-0500
TZOFFSETTO:-0600
TZNAME:CST
DTSTART:20251102T070000
END:STANDARD
BEGIN:DAYLIGHT
TZOFFSETFROM:-0600
TZOFFSETTO:-0500
TZNAME:CDT
DTSTART:20260308T080000
END:DAYLIGHT
BEGIN:STANDARD
TZOFFSETFROM:-0500
TZOFFSETTO:-0600
TZNAME:CST
DTSTART:20261101T070000
END:STANDARD
END:VTIMEZONE
BEGIN:VEVENT
DTSTART;VALUE=DATE:20250901
DTEND;VALUE=DATE:20250902
DTSTAMP:20260421T033508
CREATED:20250720T011854Z
LAST-MODIFIED:20250720T011854Z
UID:1937-1756684800-1756771199@visionwayschool.org
SUMMARY:Labor Day - No School
DESCRIPTION:
URL:https://visionwayschool.org/event/labor-day-no-school-2/
END:VEVENT
BEGIN:VEVENT
DTSTART;TZID=America/Chicago:20250825T081500
DTEND;TZID=America/Chicago:20250825T110000
DTSTAMP:20260421T033508
CREATED:20250720T011820Z
LAST-MODIFIED:20250720T011820Z
UID:1935-1756109700-1756119600@visionwayschool.org
SUMMARY:First Day of Pre-School
DESCRIPTION:
URL:https://visionwayschool.org/event/first-day-of-pre-school-2/
END:VEVENT
BEGIN:VEVENT
DTSTART;TZID=America/Chicago:20250822T080000
DTEND;TZID=America/Chicago:20250822T150000
DTSTAMP:20260421T033508
CREATED:20250720T011736Z
LAST-MODIFIED:20250720T011736Z
UID:1933-1755849600-1755874800@visionwayschool.org
SUMMARY:First Full Day (kindergarten will dismiss @ 1:00 until Aug. 30)
DESCRIPTION:
URL:https://visionwayschool.org/event/first-full-day-kindergarten-will-dismiss-100-until-aug-30/
END:VEVENT
BEGIN:VEVENT
DTSTART;TZID=America/Chicago:20250821T180000
DTEND;TZID=America/Chicago:20250821T190000
DTSTAMP:20260421T033508
CREATED:20250720T011636Z
LAST-MODIFIED:20250720T011636Z
UID:1931-1755799200-1755802800@visionwayschool.org
SUMMARY:Pre-School Orientation
DESCRIPTION:
URL:https://visionwayschool.org/event/pre-school-orientation-2/
END:VEVENT
BEGIN:VEVENT
DTSTART;TZID=America/Chicago:20250821T110000
DTEND;TZID=America/Chicago:20250821T113000
DTSTAMP:20260421T033508
CREATED:20250720T011555Z
LAST-MODIFIED:20250720T011555Z
UID:1929-1755774000-1755775800@visionwayschool.org
SUMMARY:Family Chapel Service
DESCRIPTION:
URL:https://visionwayschool.org/event/family-chapel-service-2/
END:VEVENT
BEGIN:VEVENT
DTSTART;TZID=America/Chicago:20250821T081500
DTEND;TZID=America/Chicago:20250821T110000
DTSTAMP:20260421T033508
CREATED:20250720T011517Z
LAST-MODIFIED:20250720T011517Z
UID:1927-1755764100-1755774000@visionwayschool.org
SUMMARY:First Day of Student Attendance
DESCRIPTION:
URL:https://visionwayschool.org/event/first-day-of-student-attendance-2/
END:VEVENT
BEGIN:VEVENT
DTSTART;TZID=America/Chicago:20250819T180000
DTEND;TZID=America/Chicago:20250819T193000
DTSTAMP:20260421T033508
CREATED:20250720T011329Z
LAST-MODIFIED:20250720T011329Z
UID:1925-1755626400-1755631800@visionwayschool.org
SUMMARY:Kindergarten - 5th Grade Parent Orientation
DESCRIPTION:
URL:https://visionwayschool.org/event/kindergarten-5th-grade-parent-orientation/
LOCATION:VCS
END:VEVENT
BEGIN:VEVENT
DTSTART;TZID=America/Chicago:20250814T083000
DTEND;TZID=America/Chicago:20250820T150000
DTSTAMP:20260421T033508
CREATED:20250720T011109Z
LAST-MODIFIED:20250720T011109Z
UID:1923-1755160200-1755702000@visionwayschool.org
SUMMARY:Teacher In-Service Days
DESCRIPTION:
URL:https://visionwayschool.org/event/teacher-in-service-days/
LOCATION:VCS
END:VEVENT
BEGIN:VEVENT
DTSTART;VALUE=DATE:20250522
DTEND;VALUE=DATE:20250523
DTSTAMP:20260421T033508
CREATED:20240710T153455Z
LAST-MODIFIED:20240710T153455Z
UID:1744-1747872000-1747958399@visionwayschool.org
SUMMARY:Teacher Institute
DESCRIPTION:
URL:https://visionwayschool.org/event/teacher-institute/
END:VEVENT
BEGIN:VEVENT
DTSTART;TZID=America/Chicago:20250521T180000
DTEND;TZID=America/Chicago:20250521T190000
DTSTAMP:20260421T033508
CREATED:20240710T153413Z
LAST-MODIFIED:20240710T153413Z
UID:1742-1747850400-1747854000@visionwayschool.org
SUMMARY:Jr. High Graduation
DESCRIPTION:
URL:https://visionwayschool.org/event/jr-high-graduation/
LOCATION:VCS
END:VEVENT
BEGIN:VEVENT
DTSTART;TZID=America/Chicago:20250521T080000
DTEND;TZID=America/Chicago:20250521T110000
DTSTAMP:20260421T033508
CREATED:20240710T153330Z
LAST-MODIFIED:20240710T153330Z
UID:1740-1747814400-1747825200@visionwayschool.org
SUMMARY:Last Day of School - Awards Ceremony
DESCRIPTION:
URL:https://visionwayschool.org/event/last-day-of-school-awards-ceremony/
LOCATION:VCS
END:VEVENT
BEGIN:VEVENT
DTSTART;TZID=America/Chicago:20250520T123000
DTEND;TZID=America/Chicago:20250520T143000
DTSTAMP:20260421T033508
CREATED:20240710T153236Z
LAST-MODIFIED:20240710T153236Z
UID:1738-1747744200-1747751400@visionwayschool.org
SUMMARY:Field Day
DESCRIPTION:
URL:https://visionwayschool.org/event/field-day/
LOCATION:VCS
END:VEVENT
BEGIN:VEVENT
DTSTART;VALUE=DATE:20250516
DTEND;VALUE=DATE:20250517
DTSTAMP:20260421T033508
CREATED:20240710T153149Z
LAST-MODIFIED:20240710T153149Z
UID:1736-1747353600-1747439999@visionwayschool.org
SUMMARY:Last Day of Pre-School
DESCRIPTION:
URL:https://visionwayschool.org/event/last-day-of-pre-school/
LOCATION:VCS
END:VEVENT
BEGIN:VEVENT
DTSTART;VALUE=DATE:20250428
DTEND;VALUE=DATE:20250503
DTSTAMP:20260421T033508
CREATED:20240710T153108Z
LAST-MODIFIED:20240710T153108Z
UID:1734-1745798400-1746230399@visionwayschool.org
SUMMARY:MAP Testing
DESCRIPTION:
URL:https://visionwayschool.org/event/map-testing-6/
END:VEVENT
BEGIN:VEVENT
DTSTART;VALUE=DATE:20250414
DTEND;VALUE=DATE:20250422
DTSTAMP:20260421T033508
CREATED:20240710T152954Z
LAST-MODIFIED:20240710T152954Z
UID:1732-1744588800-1745279999@visionwayschool.org
SUMMARY:Easter Break
DESCRIPTION:
URL:https://visionwayschool.org/event/easter-break/
END:VEVENT
BEGIN:VEVENT
DTSTART;TZID=America/Chicago:20250410T180000
DTEND;TZID=America/Chicago:20250410T190000
DTSTAMP:20260421T033508
CREATED:20240710T152917Z
LAST-MODIFIED:20240710T152917Z
UID:1730-1744308000-1744311600@visionwayschool.org
SUMMARY:Academic Expo
DESCRIPTION:
URL:https://visionwayschool.org/event/academic-expo-2/
LOCATION:VCS
END:VEVENT
BEGIN:VEVENT
DTSTART;VALUE=DATE:20250307
DTEND;VALUE=DATE:20250308
DTSTAMP:20260421T033508
CREATED:20240710T152823Z
LAST-MODIFIED:20240710T152823Z
UID:1728-1741305600-1741391999@visionwayschool.org
SUMMARY:End of 3rd Quarter
DESCRIPTION:
URL:https://visionwayschool.org/event/end-of-3rd-quarter/
END:VEVENT
BEGIN:VEVENT
DTSTART;VALUE=DATE:20250303
DTEND;VALUE=DATE:20250304
DTSTAMP:20260421T033508
CREATED:20240710T152753Z
LAST-MODIFIED:20240710T152753Z
UID:1726-1740960000-1741046399@visionwayschool.org
SUMMARY:Casimir Pulaski Day (No School)
DESCRIPTION:
URL:https://visionwayschool.org/event/casimir-pulaski-day-no-school/
END:VEVENT
BEGIN:VEVENT
DTSTART;VALUE=DATE:20250217
DTEND;VALUE=DATE:20250218
DTSTAMP:20260421T033508
CREATED:20240710T152705Z
LAST-MODIFIED:20240710T152705Z
UID:1724-1739750400-1739836799@visionwayschool.org
SUMMARY:Presidents' Day (No School)
DESCRIPTION:
URL:https://visionwayschool.org/event/presidents-day-no-school-2/
END:VEVENT
BEGIN:VEVENT
DTSTART;TZID=America/Chicago:20250129T130000
DTEND;TZID=America/Chicago:20250129T153000
DTSTAMP:20260421T033508
CREATED:20240710T152617Z
LAST-MODIFIED:20240710T152617Z
UID:1722-1738155600-1738164600@visionwayschool.org
SUMMARY:Teacher In-Service (1:00 p.m. Dismissal)
DESCRIPTION:
URL:https://visionwayschool.org/event/teacher-in-service-100-p-m-dismissal/
LOCATION:VCS
END:VEVENT
BEGIN:VEVENT
DTSTART;VALUE=DATE:20250120
DTEND;VALUE=DATE:20250121
DTSTAMP:20260421T033508
CREATED:20240710T152449Z
LAST-MODIFIED:20240710T152449Z
UID:1720-1737331200-1737417599@visionwayschool.org
SUMMARY:MLK Day (No School)
DESCRIPTION:
URL:https://visionwayschool.org/event/mlk-day-no-school/
END:VEVENT
BEGIN:VEVENT
DTSTART;VALUE=DATE:20250113
DTEND;VALUE=DATE:20250118
DTSTAMP:20260421T033508
CREATED:20240710T152306Z
LAST-MODIFIED:20240710T152306Z
UID:1718-1736726400-1737158399@visionwayschool.org
SUMMARY:MAP Testing
DESCRIPTION:
URL:https://visionwayschool.org/event/map-testing-5/
LOCATION:VCS
END:VEVENT
BEGIN:VEVENT
DTSTART;TZID=America/Chicago:20250106T083000
DTEND;TZID=America/Chicago:20250106T153000
DTSTAMP:20260421T033508
CREATED:20240710T152215Z
LAST-MODIFIED:20240710T152215Z
UID:1716-1736152200-1736177400@visionwayschool.org
SUMMARY:Teacher In-Service (No School)
DESCRIPTION:
URL:https://visionwayschool.org/event/teacher-in-service-no-school/
LOCATION:VCS
END:VEVENT
BEGIN:VEVENT
DTSTART;VALUE=DATE:20241223
DTEND;VALUE=DATE:20250106
DTSTAMP:20260421T033508
CREATED:20240710T152122Z
LAST-MODIFIED:20240710T152122Z
UID:1714-1734912000-1736121599@visionwayschool.org
SUMMARY:Christmas Break
DESCRIPTION:
URL:https://visionwayschool.org/event/christmas-break/
END:VEVENT
BEGIN:VEVENT
DTSTART;VALUE=DATE:20241220
DTEND;VALUE=DATE:20241221
DTSTAMP:20260421T033508
CREATED:20240710T152021Z
LAST-MODIFIED:20240710T152021Z
UID:1712-1734652800-1734739199@visionwayschool.org
SUMMARY:End of 2nd Quarter
DESCRIPTION:
URL:https://visionwayschool.org/event/end-of-2nd-quarter/
END:VEVENT
BEGIN:VEVENT
DTSTART;VALUE=DATE:20241213
DTEND;VALUE=DATE:20241214
DTSTAMP:20260421T033508
CREATED:20240710T151933Z
LAST-MODIFIED:20240710T151933Z
UID:1710-1734048000-1734134399@visionwayschool.org
SUMMARY:Christmas Program (1:30 p.m. & 7:00 p.m)
DESCRIPTION:
URL:https://visionwayschool.org/event/christmas-program-130-p-m-700-p-m/
LOCATION:VCS
END:VEVENT
BEGIN:VEVENT
DTSTART;VALUE=DATE:20241127
DTEND;VALUE=DATE:20241130
DTSTAMP:20260421T033508
CREATED:20240710T151750Z
LAST-MODIFIED:20240710T151750Z
UID:1708-1732665600-1732924799@visionwayschool.org
SUMMARY:Thanksgiving Break (No School)
DESCRIPTION:
URL:https://visionwayschool.org/event/thanksgiving-break-no-school/
END:VEVENT
BEGIN:VEVENT
DTSTART;VALUE=DATE:20241111
DTEND;VALUE=DATE:20241112
DTSTAMP:20260421T033508
CREATED:20240710T151654Z
LAST-MODIFIED:20240710T151654Z
UID:1706-1731283200-1731369599@visionwayschool.org
SUMMARY:Veterans' Day Observed (No School)
DESCRIPTION:
URL:https://visionwayschool.org/event/veterans-day-observed-no-school-2/
END:VEVENT
BEGIN:VEVENT
DTSTART;VALUE=DATE:20241104
DTEND;VALUE=DATE:20241109
DTSTAMP:20260421T033508
CREATED:20240710T151603Z
LAST-MODIFIED:20240710T151603Z
UID:1704-1730678400-1731110399@visionwayschool.org
SUMMARY:Missions Week
DESCRIPTION:
URL:https://visionwayschool.org/event/missions-week-2/
LOCATION:VCS
END:VEVENT
BEGIN:VEVENT
DTSTART;VALUE=DATE:20241024
DTEND;VALUE=DATE:20241026
DTSTAMP:20260421T033508
CREATED:20240710T151519Z
LAST-MODIFIED:20240710T151519Z
UID:1702-1729728000-1729900799@visionwayschool.org
SUMMARY:Parent Teacher Conferences (No School)
DESCRIPTION:
URL:https://visionwayschool.org/event/parent-teacher-conferences-no-school/
LOCATION:VCS
END:VEVENT
END:VCALENDAR