BEGIN:VCALENDAR
VERSION:2.0
PRODID:-//Visionway Christian School - ECPv6.15.15//NONSGML v1.0//EN
CALSCALE:GREGORIAN
METHOD:PUBLISH
X-ORIGINAL-URL:https://visionwayschool.org
X-WR-CALDESC:Events for Visionway Christian School
REFRESH-INTERVAL;VALUE=DURATION:PT1H
X-Robots-Tag:noindex
X-PUBLISHED-TTL:PT1H
BEGIN:VTIMEZONE
TZID:America/Chicago
BEGIN:DAYLIGHT
TZOFFSETFROM:-0600
TZOFFSETTO:-0500
TZNAME:CDT
DTSTART:20230312T080000
END:DAYLIGHT
BEGIN:STANDARD
TZOFFSETFROM:-0500
TZOFFSETTO:-0600
TZNAME:CST
DTSTART:20231105T070000
END:STANDARD
BEGIN:DAYLIGHT
TZOFFSETFROM:-0600
TZOFFSETTO:-0500
TZNAME:CDT
DTSTART:20240310T080000
END:DAYLIGHT
BEGIN:STANDARD
TZOFFSETFROM:-0500
TZOFFSETTO:-0600
TZNAME:CST
DTSTART:20241103T070000
END:STANDARD
BEGIN:DAYLIGHT
TZOFFSETFROM:-0600
TZOFFSETTO:-0500
TZNAME:CDT
DTSTART:20250309T080000
END:DAYLIGHT
BEGIN:STANDARD
TZOFFSETFROM:-0500
TZOFFSETTO:-0600
TZNAME:CST
DTSTART:20251102T070000
END:STANDARD
END:VTIMEZONE
BEGIN:VEVENT
DTSTART;VALUE=DATE:20241220
DTEND;VALUE=DATE:20241221
DTSTAMP:20260421T074615
CREATED:20240710T152021Z
LAST-MODIFIED:20240710T152021Z
UID:1712-1734652800-1734739199@visionwayschool.org
SUMMARY:End of 2nd Quarter
DESCRIPTION:
URL:https://visionwayschool.org/event/end-of-2nd-quarter/
END:VEVENT
BEGIN:VEVENT
DTSTART;VALUE=DATE:20241213
DTEND;VALUE=DATE:20241214
DTSTAMP:20260421T074615
CREATED:20240710T151933Z
LAST-MODIFIED:20240710T151933Z
UID:1710-1734048000-1734134399@visionwayschool.org
SUMMARY:Christmas Program (1:30 p.m. & 7:00 p.m)
DESCRIPTION:
URL:https://visionwayschool.org/event/christmas-program-130-p-m-700-p-m/
LOCATION:VCS
END:VEVENT
BEGIN:VEVENT
DTSTART;VALUE=DATE:20241127
DTEND;VALUE=DATE:20241130
DTSTAMP:20260421T074615
CREATED:20240710T151750Z
LAST-MODIFIED:20240710T151750Z
UID:1708-1732665600-1732924799@visionwayschool.org
SUMMARY:Thanksgiving Break (No School)
DESCRIPTION:
URL:https://visionwayschool.org/event/thanksgiving-break-no-school/
END:VEVENT
BEGIN:VEVENT
DTSTART;VALUE=DATE:20241111
DTEND;VALUE=DATE:20241112
DTSTAMP:20260421T074615
CREATED:20240710T151654Z
LAST-MODIFIED:20240710T151654Z
UID:1706-1731283200-1731369599@visionwayschool.org
SUMMARY:Veterans' Day Observed (No School)
DESCRIPTION:
URL:https://visionwayschool.org/event/veterans-day-observed-no-school-2/
END:VEVENT
BEGIN:VEVENT
DTSTART;VALUE=DATE:20241104
DTEND;VALUE=DATE:20241109
DTSTAMP:20260421T074615
CREATED:20240710T151603Z
LAST-MODIFIED:20240710T151603Z
UID:1704-1730678400-1731110399@visionwayschool.org
SUMMARY:Missions Week
DESCRIPTION:
URL:https://visionwayschool.org/event/missions-week-2/
LOCATION:VCS
END:VEVENT
BEGIN:VEVENT
DTSTART;VALUE=DATE:20241024
DTEND;VALUE=DATE:20241026
DTSTAMP:20260421T074615
CREATED:20240710T151519Z
LAST-MODIFIED:20240710T151519Z
UID:1702-1729728000-1729900799@visionwayschool.org
SUMMARY:Parent Teacher Conferences (No School)
DESCRIPTION:
URL:https://visionwayschool.org/event/parent-teacher-conferences-no-school/
LOCATION:VCS
END:VEVENT
BEGIN:VEVENT
DTSTART;VALUE=DATE:20241018
DTEND;VALUE=DATE:20241019
DTSTAMP:20260421T074615
CREATED:20240710T151403Z
LAST-MODIFIED:20240710T151403Z
UID:1700-1729209600-1729295999@visionwayschool.org
SUMMARY:End of 1st Quarter
DESCRIPTION:
URL:https://visionwayschool.org/event/end-of-1st-quarter/
END:VEVENT
BEGIN:VEVENT
DTSTART;VALUE=DATE:20241014
DTEND;VALUE=DATE:20241015
DTSTAMP:20260421T074615
CREATED:20240710T151328Z
LAST-MODIFIED:20240710T151328Z
UID:1698-1728864000-1728950399@visionwayschool.org
SUMMARY:Columbus Day - No School
DESCRIPTION:
URL:https://visionwayschool.org/event/columbus-day-no-school-2/
END:VEVENT
BEGIN:VEVENT
DTSTART;TZID=America/Chicago:20241002T133000
DTEND;TZID=America/Chicago:20241002T140000
DTSTAMP:20260421T074615
CREATED:20240710T151229Z
LAST-MODIFIED:20240710T151229Z
UID:1696-1727875800-1727877600@visionwayschool.org
SUMMARY:Grandparents' Day Chapel (K-5)
DESCRIPTION:
URL:https://visionwayschool.org/event/grandparents-day-chapel-k-5/
LOCATION:VCS
END:VEVENT
BEGIN:VEVENT
DTSTART;TZID=America/Chicago:20240925T130000
DTEND;TZID=America/Chicago:20240925T153000
DTSTAMP:20260421T074615
CREATED:20240710T150801Z
LAST-MODIFIED:20240710T150801Z
UID:1694-1727269200-1727278200@visionwayschool.org
SUMMARY:Teachers' In-Service (1:00 p.m. Dismissal)
DESCRIPTION:
URL:https://visionwayschool.org/event/teachers-in-service-100-p-m-dismissal/
LOCATION:VCS
END:VEVENT
BEGIN:VEVENT
DTSTART;TZID=America/Chicago:20240925T083000
DTEND;TZID=America/Chicago:20240925T090000
DTSTAMP:20260421T074615
CREATED:20240710T150645Z
LAST-MODIFIED:20240710T150645Z
UID:1692-1727253000-1727254800@visionwayschool.org
SUMMARY:See You at the Pole
DESCRIPTION:
URL:https://visionwayschool.org/event/see-you-at-the-pole-2/
LOCATION:VCS
END:VEVENT
BEGIN:VEVENT
DTSTART;VALUE=DATE:20240916
DTEND;VALUE=DATE:20240921
DTSTAMP:20260421T074615
CREATED:20240710T150408Z
LAST-MODIFIED:20240710T150408Z
UID:1690-1726444800-1726876799@visionwayschool.org
SUMMARY:MAP Testing
DESCRIPTION:
URL:https://visionwayschool.org/event/map-testing-4/
LOCATION:VCS
END:VEVENT
BEGIN:VEVENT
DTSTART;VALUE=DATE:20240902
DTEND;VALUE=DATE:20240903
DTSTAMP:20260421T074615
CREATED:20240710T150306Z
LAST-MODIFIED:20240710T150306Z
UID:1688-1725235200-1725321599@visionwayschool.org
SUMMARY:Labor Day - No School
DESCRIPTION:
URL:https://visionwayschool.org/event/labor-day-no-school/
END:VEVENT
BEGIN:VEVENT
DTSTART;TZID=America/Chicago:20240826T082500
DTEND;TZID=America/Chicago:20240826T111500
DTSTAMP:20260421T074615
CREATED:20240710T150059Z
LAST-MODIFIED:20240710T150059Z
UID:1684-1724660700-1724670900@visionwayschool.org
SUMMARY:First Day of Pre-School
DESCRIPTION:
URL:https://visionwayschool.org/event/first-day-of-pre-school/
LOCATION:VCS
END:VEVENT
BEGIN:VEVENT
DTSTART;TZID=America/Chicago:20240822T180000
DTEND;TZID=America/Chicago:20240822T190000
DTSTAMP:20260421T074615
CREATED:20240710T145748Z
LAST-MODIFIED:20240710T145748Z
UID:1682-1724349600-1724353200@visionwayschool.org
SUMMARY:Pre-School Parent Orientation
DESCRIPTION:
URL:https://visionwayschool.org/event/pre-school-parent-orientation/
END:VEVENT
BEGIN:VEVENT
DTSTART;TZID=America/Chicago:20240822T110000
DTEND;TZID=America/Chicago:20240822T113000
DTSTAMP:20260421T074615
CREATED:20240710T145708Z
LAST-MODIFIED:20240710T145708Z
UID:1680-1724324400-1724326200@visionwayschool.org
SUMMARY:Family Chapel Service
DESCRIPTION:
URL:https://visionwayschool.org/event/family-chapel-service/
LOCATION:VCS
END:VEVENT
BEGIN:VEVENT
DTSTART;TZID=America/Chicago:20240822T082500
DTEND;TZID=America/Chicago:20240822T113000
DTSTAMP:20260421T074615
CREATED:20240710T150229Z
LAST-MODIFIED:20240710T150229Z
UID:1686-1724315100-1724326200@visionwayschool.org
SUMMARY:First Day of Student Attendance
DESCRIPTION:
URL:https://visionwayschool.org/event/first-day-of-student-attendance/
LOCATION:VCS
END:VEVENT
BEGIN:VEVENT
DTSTART;TZID=America/Chicago:20240820T180000
DTEND;TZID=America/Chicago:20240820T200000
DTSTAMP:20260421T074615
CREATED:20240710T145509Z
LAST-MODIFIED:20240710T145509Z
UID:1678-1724176800-1724184000@visionwayschool.org
SUMMARY:K-8 Parent Orientation
DESCRIPTION:
URL:https://visionwayschool.org/event/k-8-parent-orientation/
END:VEVENT
BEGIN:VEVENT
DTSTART;VALUE=DATE:20240523
DTEND;VALUE=DATE:20240524
DTSTAMP:20260421T074615
CREATED:20230705T175311Z
LAST-MODIFIED:20230705T175311Z
UID:1107-1716422400-1716508799@visionwayschool.org
SUMMARY:Teachers' In-Service
DESCRIPTION:
URL:https://visionwayschool.org/event/teachers-in-service/
LOCATION:VCS
END:VEVENT
BEGIN:VEVENT
DTSTART;VALUE=DATE:20240522
DTEND;VALUE=DATE:20240523
DTSTAMP:20260421T074615
CREATED:20230705T175358Z
LAST-MODIFIED:20240507T150710Z
UID:1109-1716336000-1716422399@visionwayschool.org
SUMMARY:Jr. High Graduation at 6pm
DESCRIPTION:
URL:https://visionwayschool.org/event/jr-high-graduation-at-6pm/
LOCATION:VCS
END:VEVENT
BEGIN:VEVENT
DTSTART;VALUE=DATE:20240522
DTEND;VALUE=DATE:20240523
DTSTAMP:20260421T074615
CREATED:20230705T175146Z
LAST-MODIFIED:20230705T175146Z
UID:1104-1716336000-1716422399@visionwayschool.org
SUMMARY:Last Day of School-Awards Ceremony (Time TBD)
DESCRIPTION:
URL:https://visionwayschool.org/event/last-day-of-school-awards-ceremony-time-tbd/
LOCATION:VCS
END:VEVENT
BEGIN:VEVENT
DTSTART;TZID=America/Chicago:20240521T130000
DTEND;TZID=America/Chicago:20240521T143000
DTSTAMP:20260421T074615
CREATED:20230705T175052Z
LAST-MODIFIED:20230705T175236Z
UID:1102-1716296400-1716301800@visionwayschool.org
SUMMARY:Field Day/End of Fourth Quarter (Dismiss 3pm)
DESCRIPTION:
URL:https://visionwayschool.org/event/field-day-end-of-fourth-quarter/
LOCATION:VCS
END:VEVENT
BEGIN:VEVENT
DTSTART;VALUE=DATE:20240517
DTEND;VALUE=DATE:20240518
DTSTAMP:20260421T074615
CREATED:20230705T174948Z
LAST-MODIFIED:20230705T174948Z
UID:1100-1715904000-1715990399@visionwayschool.org
SUMMARY:Last Day of School for Pre-School/Pre-K
DESCRIPTION:
URL:https://visionwayschool.org/event/last-day-of-school-for-pre-school-pre-k/
LOCATION:VCS
END:VEVENT
BEGIN:VEVENT
DTSTART;TZID=America/Chicago:20240516T180000
DTEND;TZID=America/Chicago:20240516T190000
DTSTAMP:20260421T074615
CREATED:20230803T192915Z
LAST-MODIFIED:20230804T195824Z
UID:1193-1715882400-1715886000@visionwayschool.org
SUMMARY:PIE MTG
DESCRIPTION:
URL:https://visionwayschool.org/event/pie-mtg-9/
LOCATION:Church Fellowship Hall
END:VEVENT
BEGIN:VEVENT
DTSTART;VALUE=DATE:20240422
DTEND;VALUE=DATE:20240427
DTSTAMP:20260421T074615
CREATED:20230705T174905Z
LAST-MODIFIED:20230705T174905Z
UID:1098-1713744000-1714175999@visionwayschool.org
SUMMARY:MAP Testing
DESCRIPTION:
URL:https://visionwayschool.org/event/map-testing-3/
LOCATION:VCS
END:VEVENT
BEGIN:VEVENT
DTSTART;TZID=America/Chicago:20240418T180000
DTEND;TZID=America/Chicago:20240418T190000
DTSTAMP:20260421T074615
CREATED:20230803T192846Z
LAST-MODIFIED:20230804T195153Z
UID:1190-1713463200-1713466800@visionwayschool.org
SUMMARY:PIE MTG
DESCRIPTION:
URL:https://visionwayschool.org/event/pie-mtg-8/
LOCATION:Church Fellowship Hall
END:VEVENT
BEGIN:VEVENT
DTSTART;TZID=America/Chicago:20240417T130000
DTEND;TZID=America/Chicago:20240417T140000
DTSTAMP:20260421T074615
CREATED:20230803T192345Z
LAST-MODIFIED:20230803T192345Z
UID:1179-1713358800-1713362400@visionwayschool.org
SUMMARY:Kindergarten Chapel
DESCRIPTION:
URL:https://visionwayschool.org/event/kindergarten-chapel-2/
LOCATION:VCS
END:VEVENT
BEGIN:VEVENT
DTSTART;TZID=America/Chicago:20240411T180000
DTEND;TZID=America/Chicago:20240411T180000
DTSTAMP:20260421T074615
CREATED:20230705T174827Z
LAST-MODIFIED:20230705T174827Z
UID:1096-1712858400-1712858400@visionwayschool.org
SUMMARY:Academic Expo
DESCRIPTION:
URL:https://visionwayschool.org/event/academic-expo/
LOCATION:VCS
END:VEVENT
BEGIN:VEVENT
DTSTART;VALUE=DATE:20240402
DTEND;VALUE=DATE:20240403
DTSTAMP:20260421T074615
CREATED:20230705T174746Z
LAST-MODIFIED:20230705T174746Z
UID:1094-1712016000-1712102399@visionwayschool.org
SUMMARY:School Resumes
DESCRIPTION:
URL:https://visionwayschool.org/event/school-resumes-2/
END:VEVENT
BEGIN:VEVENT
DTSTART;VALUE=DATE:20240325
DTEND;VALUE=DATE:20240402
DTSTAMP:20260421T074615
CREATED:20230705T174710Z
LAST-MODIFIED:20230705T174710Z
UID:1092-1711324800-1712015999@visionwayschool.org
SUMMARY:Easter Break (No School)
DESCRIPTION:
URL:https://visionwayschool.org/event/easter-break-no-school/
END:VEVENT
END:VCALENDAR