BEGIN:VCALENDAR
VERSION:2.0
PRODID:-//Visionway Christian School - ECPv6.15.15//NONSGML v1.0//EN
CALSCALE:GREGORIAN
METHOD:PUBLISH
X-ORIGINAL-URL:https://visionwayschool.org
X-WR-CALDESC:Events for Visionway Christian School
REFRESH-INTERVAL;VALUE=DURATION:PT1H
X-Robots-Tag:noindex
X-PUBLISHED-TTL:PT1H
BEGIN:VTIMEZONE
TZID:America/Chicago
BEGIN:DAYLIGHT
TZOFFSETFROM:-0600
TZOFFSETTO:-0500
TZNAME:CDT
DTSTART:20240310T080000
END:DAYLIGHT
BEGIN:STANDARD
TZOFFSETFROM:-0500
TZOFFSETTO:-0600
TZNAME:CST
DTSTART:20241103T070000
END:STANDARD
BEGIN:DAYLIGHT
TZOFFSETFROM:-0600
TZOFFSETTO:-0500
TZNAME:CDT
DTSTART:20250309T080000
END:DAYLIGHT
BEGIN:STANDARD
TZOFFSETFROM:-0500
TZOFFSETTO:-0600
TZNAME:CST
DTSTART:20251102T070000
END:STANDARD
BEGIN:DAYLIGHT
TZOFFSETFROM:-0600
TZOFFSETTO:-0500
TZNAME:CDT
DTSTART:20260308T080000
END:DAYLIGHT
BEGIN:STANDARD
TZOFFSETFROM:-0500
TZOFFSETTO:-0600
TZNAME:CST
DTSTART:20261101T070000
END:STANDARD
END:VTIMEZONE
BEGIN:VEVENT
DTSTART;VALUE=DATE:20251103
DTEND;VALUE=DATE:20251108
DTSTAMP:20260421T103215
CREATED:20250720T012609Z
LAST-MODIFIED:20250720T012609Z
UID:1957-1762128000-1762559999@visionwayschool.org
SUMMARY:Missions Week
DESCRIPTION:
URL:https://visionwayschool.org/event/missions-week-3/
END:VEVENT
BEGIN:VEVENT
DTSTART;TZID=America/Chicago:20251105T130000
DTEND;TZID=America/Chicago:20251105T133000
DTSTAMP:20260421T103215
CREATED:20250812T211930Z
LAST-MODIFIED:20250812T211930Z
UID:2002-1762347600-1762349400@visionwayschool.org
SUMMARY:Missions Week Chapel
DESCRIPTION:
URL:https://visionwayschool.org/event/missions-week-chapel/
LOCATION:VCS
END:VEVENT
BEGIN:VEVENT
DTSTART;VALUE=DATE:20251111
DTEND;VALUE=DATE:20251112
DTSTAMP:20260421T103215
CREATED:20250720T012645Z
LAST-MODIFIED:20250720T012645Z
UID:1959-1762819200-1762905599@visionwayschool.org
SUMMARY:Veterans' Day (No School)
DESCRIPTION:
URL:https://visionwayschool.org/event/veterans-day-no-school/
END:VEVENT
BEGIN:VEVENT
DTSTART;TZID=America/Chicago:20251112T130000
DTEND;TZID=America/Chicago:20251112T133000
DTSTAMP:20260421T103215
CREATED:20250812T212034Z
LAST-MODIFIED:20250812T212034Z
UID:2004-1762952400-1762954200@visionwayschool.org
SUMMARY:Veterans Day Chapel
DESCRIPTION:
URL:https://visionwayschool.org/event/veterans-day-chapel/
LOCATION:VCS
END:VEVENT
BEGIN:VEVENT
DTSTART;TZID=America/Chicago:20251113T180000
DTEND;TZID=America/Chicago:20251113T190000
DTSTAMP:20260421T103215
CREATED:20251108T153256Z
LAST-MODIFIED:20251108T153256Z
UID:2075-1763056800-1763060400@visionwayschool.org
SUMMARY:P.I.E. Meeting
DESCRIPTION:
URL:https://visionwayschool.org/event/p-i-e-meeting/
LOCATION:Hub
END:VEVENT
BEGIN:VEVENT
DTSTART;VALUE=DATE:20251126
DTEND;VALUE=DATE:20251129
DTSTAMP:20260421T103215
CREATED:20250720T012737Z
LAST-MODIFIED:20250720T012737Z
UID:1961-1764115200-1764374399@visionwayschool.org
SUMMARY:Thanksgiving Vacation (No School)
DESCRIPTION:
URL:https://visionwayschool.org/event/thanksgiving-vacation-no-school-2/
END:VEVENT
END:VCALENDAR