BEGIN:VCALENDAR
VERSION:2.0
PRODID:-//Visionway Christian School - ECPv6.15.15//NONSGML v1.0//EN
CALSCALE:GREGORIAN
METHOD:PUBLISH
X-WR-CALNAME:Visionway Christian School
X-ORIGINAL-URL:https://visionwayschool.org
X-WR-CALDESC:Events for Visionway Christian School
REFRESH-INTERVAL;VALUE=DURATION:PT1H
X-Robots-Tag:noindex
X-PUBLISHED-TTL:PT1H
BEGIN:VTIMEZONE
TZID:America/Chicago
BEGIN:DAYLIGHT
TZOFFSETFROM:-0600
TZOFFSETTO:-0500
TZNAME:CDT
DTSTART:20240310T080000
END:DAYLIGHT
BEGIN:STANDARD
TZOFFSETFROM:-0500
TZOFFSETTO:-0600
TZNAME:CST
DTSTART:20241103T070000
END:STANDARD
BEGIN:DAYLIGHT
TZOFFSETFROM:-0600
TZOFFSETTO:-0500
TZNAME:CDT
DTSTART:20250309T080000
END:DAYLIGHT
BEGIN:STANDARD
TZOFFSETFROM:-0500
TZOFFSETTO:-0600
TZNAME:CST
DTSTART:20251102T070000
END:STANDARD
BEGIN:DAYLIGHT
TZOFFSETFROM:-0600
TZOFFSETTO:-0500
TZNAME:CDT
DTSTART:20260308T080000
END:DAYLIGHT
BEGIN:STANDARD
TZOFFSETFROM:-0500
TZOFFSETTO:-0600
TZNAME:CST
DTSTART:20261101T070000
END:STANDARD
BEGIN:DAYLIGHT
TZOFFSETFROM:-0600
TZOFFSETTO:-0500
TZNAME:CDT
DTSTART:20270314T080000
END:DAYLIGHT
BEGIN:STANDARD
TZOFFSETFROM:-0500
TZOFFSETTO:-0600
TZNAME:CST
DTSTART:20271107T070000
END:STANDARD
END:VTIMEZONE
BEGIN:VEVENT
DTSTART;TZID=America/Chicago:20251203T130000
DTEND;TZID=America/Chicago:20251203T133000
DTSTAMP:20260421T083752
CREATED:20250812T212111Z
LAST-MODIFIED:20250812T212111Z
UID:2006-1764766800-1764768600@visionwayschool.org
SUMMARY:2nd Grade Chapel
DESCRIPTION:
URL:https://visionwayschool.org/event/2nd-grade-chapel-3/
LOCATION:VCS
END:VEVENT
BEGIN:VEVENT
DTSTART;TZID=America/Chicago:20251204T180000
DTEND;TZID=America/Chicago:20251204T190000
DTSTAMP:20260421T083752
CREATED:20251108T154007Z
LAST-MODIFIED:20251108T154007Z
UID:2090-1764871200-1764874800@visionwayschool.org
SUMMARY:Dinner Auction Meeting
DESCRIPTION:
URL:https://visionwayschool.org/event/dinner-auction-meeting/
LOCATION:Hub Conference Room
END:VEVENT
BEGIN:VEVENT
DTSTART;TZID=America/Chicago:20251210T130000
DTEND;TZID=America/Chicago:20251210T133000
DTSTAMP:20260421T083752
CREATED:20250812T212149Z
LAST-MODIFIED:20250812T212202Z
UID:2008-1765371600-1765373400@visionwayschool.org
SUMMARY:Kindergarten Chapel
DESCRIPTION:
URL:https://visionwayschool.org/event/kindergarten-chapel-3/
LOCATION:VCS
END:VEVENT
BEGIN:VEVENT
DTSTART;TZID=America/Chicago:20251211T180000
DTEND;TZID=America/Chicago:20251211T190000
DTSTAMP:20260421T083752
CREATED:20251108T153355Z
LAST-MODIFIED:20251108T153355Z
UID:2078-1765476000-1765479600@visionwayschool.org
SUMMARY:P.I.E. Meeting
DESCRIPTION:
URL:https://visionwayschool.org/event/p-i-e-meeting-2/
LOCATION:Hub
END:VEVENT
BEGIN:VEVENT
DTSTART;VALUE=DATE:20251212
DTEND;VALUE=DATE:20251213
DTSTAMP:20260421T083752
CREATED:20250720T012836Z
LAST-MODIFIED:20250720T012836Z
UID:1963-1765497600-1765583999@visionwayschool.org
SUMMARY:Christmas Program (Time tbd)
DESCRIPTION:
URL:https://visionwayschool.org/event/christmas-program-time-tbd/
END:VEVENT
BEGIN:VEVENT
DTSTART;TZID=America/Chicago:20251217T130000
DTEND;TZID=America/Chicago:20251217T133000
DTSTAMP:20260421T083752
CREATED:20250812T212300Z
LAST-MODIFIED:20250812T212300Z
UID:2010-1765976400-1765978200@visionwayschool.org
SUMMARY:1st Grade Chapel
DESCRIPTION:
URL:https://visionwayschool.org/event/1st-grade-chapel-3/
LOCATION:VCS
END:VEVENT
BEGIN:VEVENT
DTSTART;VALUE=DATE:20251219
DTEND;VALUE=DATE:20251220
DTSTAMP:20260421T083752
CREATED:20250720T012902Z
LAST-MODIFIED:20250720T012902Z
UID:1965-1766102400-1766188799@visionwayschool.org
SUMMARY:End of 2nd Quarter
DESCRIPTION:
URL:https://visionwayschool.org/event/end-of-2nd-quarter-2/
END:VEVENT
BEGIN:VEVENT
DTSTART;VALUE=DATE:20251222
DTEND;VALUE=DATE:20260103
DTSTAMP:20260421T083752
CREATED:20250720T013007Z
LAST-MODIFIED:20250720T013007Z
UID:1967-1766361600-1767398399@visionwayschool.org
SUMMARY:Christmas Vacation (No School)
DESCRIPTION:
URL:https://visionwayschool.org/event/christmas-vacation-no-school-2/
END:VEVENT
END:VCALENDAR