BEGIN:VCALENDAR
VERSION:2.0
PRODID:-//Visionway Christian School - ECPv6.15.15//NONSGML v1.0//EN
CALSCALE:GREGORIAN
METHOD:PUBLISH
X-WR-CALNAME:Visionway Christian School
X-ORIGINAL-URL:https://visionwayschool.org
X-WR-CALDESC:Events for Visionway Christian School
REFRESH-INTERVAL;VALUE=DURATION:PT1H
X-Robots-Tag:noindex
X-PUBLISHED-TTL:PT1H
BEGIN:VTIMEZONE
TZID:America/Chicago
BEGIN:DAYLIGHT
TZOFFSETFROM:-0600
TZOFFSETTO:-0500
TZNAME:CDT
DTSTART:20240310T080000
END:DAYLIGHT
BEGIN:STANDARD
TZOFFSETFROM:-0500
TZOFFSETTO:-0600
TZNAME:CST
DTSTART:20241103T070000
END:STANDARD
BEGIN:DAYLIGHT
TZOFFSETFROM:-0600
TZOFFSETTO:-0500
TZNAME:CDT
DTSTART:20250309T080000
END:DAYLIGHT
BEGIN:STANDARD
TZOFFSETFROM:-0500
TZOFFSETTO:-0600
TZNAME:CST
DTSTART:20251102T070000
END:STANDARD
BEGIN:DAYLIGHT
TZOFFSETFROM:-0600
TZOFFSETTO:-0500
TZNAME:CDT
DTSTART:20260308T080000
END:DAYLIGHT
BEGIN:STANDARD
TZOFFSETFROM:-0500
TZOFFSETTO:-0600
TZNAME:CST
DTSTART:20261101T070000
END:STANDARD
BEGIN:DAYLIGHT
TZOFFSETFROM:-0600
TZOFFSETTO:-0500
TZNAME:CDT
DTSTART:20270314T080000
END:DAYLIGHT
BEGIN:STANDARD
TZOFFSETFROM:-0500
TZOFFSETTO:-0600
TZNAME:CST
DTSTART:20271107T070000
END:STANDARD
END:VTIMEZONE
BEGIN:VEVENT
DTSTART;VALUE=DATE:20251222
DTEND;VALUE=DATE:20260103
DTSTAMP:20260421T070338
CREATED:20250720T013007Z
LAST-MODIFIED:20250720T013007Z
UID:1967-1766361600-1767398399@visionwayschool.org
SUMMARY:Christmas Vacation (No School)
DESCRIPTION:
URL:https://visionwayschool.org/event/christmas-vacation-no-school-2/
END:VEVENT
BEGIN:VEVENT
DTSTART;VALUE=DATE:20260105
DTEND;VALUE=DATE:20260106
DTSTAMP:20260421T070338
CREATED:20250720T013056Z
LAST-MODIFIED:20250720T013056Z
UID:1969-1767571200-1767657599@visionwayschool.org
SUMMARY:Teachers' In-Service (No School)
DESCRIPTION:
URL:https://visionwayschool.org/event/teachers-in-service-no-school-2/
END:VEVENT
BEGIN:VEVENT
DTSTART;TZID=America/Chicago:20260108T180000
DTEND;TZID=America/Chicago:20260108T190000
DTSTAMP:20260421T070338
CREATED:20251108T153438Z
LAST-MODIFIED:20251108T153438Z
UID:2080-1767895200-1767898800@visionwayschool.org
SUMMARY:P.I.E. Meeting
DESCRIPTION:
URL:https://visionwayschool.org/event/p-i-e-meeting-3/
LOCATION:Hub
END:VEVENT
BEGIN:VEVENT
DTSTART;VALUE=DATE:20260112
DTEND;VALUE=DATE:20260117
DTSTAMP:20260421T070338
CREATED:20250720T013126Z
LAST-MODIFIED:20250720T013126Z
UID:1971-1768176000-1768607999@visionwayschool.org
SUMMARY:MAP Testing
DESCRIPTION:
URL:https://visionwayschool.org/event/map-testing-8/
END:VEVENT
BEGIN:VEVENT
DTSTART;TZID=America/Chicago:20260115T180000
DTEND;TZID=America/Chicago:20260115T190000
DTSTAMP:20260421T070338
CREATED:20251108T154049Z
LAST-MODIFIED:20251108T154049Z
UID:2093-1768500000-1768503600@visionwayschool.org
SUMMARY:Dinner Auction Meeting
DESCRIPTION:
URL:https://visionwayschool.org/event/dinner-auction-meeting-2/
LOCATION:Hub Conference Room
END:VEVENT
BEGIN:VEVENT
DTSTART;VALUE=DATE:20260119
DTEND;VALUE=DATE:20260120
DTSTAMP:20260421T070338
CREATED:20250720T013152Z
LAST-MODIFIED:20250720T013152Z
UID:1973-1768780800-1768867199@visionwayschool.org
SUMMARY:MLK Day (No School)
DESCRIPTION:
URL:https://visionwayschool.org/event/mlk-day-no-school-2/
END:VEVENT
BEGIN:VEVENT
DTSTART;TZID=America/Chicago:20260121T130000
DTEND;TZID=America/Chicago:20260121T133000
DTSTAMP:20260421T070338
CREATED:20250812T212353Z
LAST-MODIFIED:20250812T212353Z
UID:2012-1769000400-1769002200@visionwayschool.org
SUMMARY:3rd Grade Chapel
DESCRIPTION:
URL:https://visionwayschool.org/event/3rd-grade-chapel-3/
LOCATION:VCS
END:VEVENT
BEGIN:VEVENT
DTSTART;TZID=America/Chicago:20260121T160000
DTEND;TZID=America/Chicago:20260121T180000
DTSTAMP:20260421T070338
CREATED:20260109T005054Z
LAST-MODIFIED:20260109T005054Z
UID:2183-1769011200-1769018400@visionwayschool.org
SUMMARY:Spaghetti Fundraiser Dinner
DESCRIPTION:
URL:https://visionwayschool.org/event/spaghetti-fundraiser-dinner/
LOCATION:VCS
END:VEVENT
BEGIN:VEVENT
DTSTART;TZID=America/Chicago:20260128T130000
DTEND;TZID=America/Chicago:20260128T150000
DTSTAMP:20260421T070338
CREATED:20250720T013239Z
LAST-MODIFIED:20250720T013239Z
UID:1975-1769605200-1769612400@visionwayschool.org
SUMMARY:Teachers' In-Service (Early Dismissal)
DESCRIPTION:
URL:https://visionwayschool.org/event/teachers-in-service-early-dismissal-3/
END:VEVENT
END:VCALENDAR