BEGIN:VCALENDAR
VERSION:2.0
PRODID:-//Visionway Christian School - ECPv6.15.15//NONSGML v1.0//EN
CALSCALE:GREGORIAN
METHOD:PUBLISH
X-ORIGINAL-URL:https://visionwayschool.org
X-WR-CALDESC:Events for Visionway Christian School
REFRESH-INTERVAL;VALUE=DURATION:PT1H
X-Robots-Tag:noindex
X-PUBLISHED-TTL:PT1H
BEGIN:VTIMEZONE
TZID:America/Chicago
BEGIN:DAYLIGHT
TZOFFSETFROM:-0600
TZOFFSETTO:-0500
TZNAME:CDT
DTSTART:20250309T080000
END:DAYLIGHT
BEGIN:STANDARD
TZOFFSETFROM:-0500
TZOFFSETTO:-0600
TZNAME:CST
DTSTART:20251102T070000
END:STANDARD
BEGIN:DAYLIGHT
TZOFFSETFROM:-0600
TZOFFSETTO:-0500
TZNAME:CDT
DTSTART:20260308T080000
END:DAYLIGHT
BEGIN:STANDARD
TZOFFSETFROM:-0500
TZOFFSETTO:-0600
TZNAME:CST
DTSTART:20261101T070000
END:STANDARD
BEGIN:DAYLIGHT
TZOFFSETFROM:-0600
TZOFFSETTO:-0500
TZNAME:CDT
DTSTART:20270314T080000
END:DAYLIGHT
BEGIN:STANDARD
TZOFFSETFROM:-0500
TZOFFSETTO:-0600
TZNAME:CST
DTSTART:20271107T070000
END:STANDARD
END:VTIMEZONE
BEGIN:VEVENT
DTSTART;TZID=America/Chicago:20260211T130000
DTEND;TZID=America/Chicago:20260211T133000
DTSTAMP:20260421T052633
CREATED:20250812T212450Z
LAST-MODIFIED:20250812T212450Z
UID:2014-1770814800-1770816600@visionwayschool.org
SUMMARY:Kindergarten Chapel
DESCRIPTION:
URL:https://visionwayschool.org/event/kindergarten-chapel-4/
LOCATION:VCS
END:VEVENT
BEGIN:VEVENT
DTSTART;TZID=America/Chicago:20260212T180000
DTEND;TZID=America/Chicago:20260212T190000
DTSTAMP:20260421T052633
CREATED:20251108T153516Z
LAST-MODIFIED:20251108T153516Z
UID:2082-1770919200-1770922800@visionwayschool.org
SUMMARY:P.I.E. Meeting
DESCRIPTION:
URL:https://visionwayschool.org/event/p-i-e-meeting-4/
LOCATION:Hub
END:VEVENT
BEGIN:VEVENT
DTSTART;VALUE=DATE:20260216
DTEND;VALUE=DATE:20260217
DTSTAMP:20260421T052633
CREATED:20250720T013308Z
LAST-MODIFIED:20250720T013308Z
UID:1977-1771200000-1771286399@visionwayschool.org
SUMMARY:Presidents' Day (No School)
DESCRIPTION:
URL:https://visionwayschool.org/event/presidents-day-no-school-3/
END:VEVENT
BEGIN:VEVENT
DTSTART;TZID=America/Chicago:20260218T130000
DTEND;TZID=America/Chicago:20260218T133000
DTSTAMP:20260421T052633
CREATED:20250812T212533Z
LAST-MODIFIED:20250812T212533Z
UID:2016-1771419600-1771421400@visionwayschool.org
SUMMARY:4th Grade Chapel
DESCRIPTION:
URL:https://visionwayschool.org/event/4th-grade-chapel-4/
LOCATION:VCS
END:VEVENT
END:VCALENDAR